BEGIN:VCALENDAR
VERSION:2.0
PRODID:-//compassregionalhospice.org//NONSGML kigkonsult.se iCalcreator 2.3
 0.10//
CALSCALE:GREGORIAN
METHOD:PUBLISH
UID:0d459b5b-a778-460c-ae1b-f915b0cf6e6b
X-WR-CALDESC:
X-WR-RELCALID:4ab6ca68c61efb237e5ab141b61b2117
X-WR-TIMEZONE:America/New_York
BEGIN:VTIMEZONE
TZID:America/New_York
BEGIN:STANDARD
TZNAME:EST
DTSTART:20251102T020000
TZOFFSETFROM:-0400
TZOFFSETTO:-0500
RDATE:20261101T020000
END:STANDARD
BEGIN:DAYLIGHT
TZNAME:EDT
DTSTART:20260308T020000
TZOFFSETFROM:-0500
TZOFFSETTO:-0400
RDATE:20270314T020000
END:DAYLIGHT
END:VTIMEZONE
BEGIN:VEVENT
UID:e91966f6-848c-4b13-9b21-6f2fdf6d847f
DTSTAMP:20260420T021257Z
DESCRIPTION:
DTSTART;TZID=America/New_York:20260423T073000
DTEND;TZID=America/New_York:20260423T150000
LOCATION:310 Links Ln\, Queenstown\, MD 21658 US
SUMMARY:Compass Golf Tournament
END:VEVENT
END:VCALENDAR
