BEGIN:VCALENDAR
VERSION:2.0
PRODID:-//compassregionalhospice.org//NONSGML kigkonsult.se iCalcreator 2.3
 0.10//
CALSCALE:GREGORIAN
METHOD:PUBLISH
UID:027a82db-bd3a-4ba2-b799-baba460194b1
X-WR-CALDESC:
X-WR-RELCALID:298c5d54f630f51e1e51fcb58b18476c
X-WR-TIMEZONE:America/New_York
BEGIN:VTIMEZONE
TZID:America/New_York
BEGIN:STANDARD
TZNAME:EST
DTSTART:20251102T020000
TZOFFSETFROM:-0400
TZOFFSETTO:-0500
RDATE:20261101T020000
END:STANDARD
BEGIN:DAYLIGHT
TZNAME:EDT
DTSTART:20260308T020000
TZOFFSETFROM:-0500
TZOFFSETTO:-0400
RDATE:20270314T020000
END:DAYLIGHT
END:VTIMEZONE
BEGIN:VEVENT
UID:8250215e-fde6-4d68-aead-25942f0d0f5f
DTSTAMP:20260420T020146Z
DESCRIPTION:
DTSTART;TZID=America/New_York:20260416T130000
DTEND;TZID=America/New_York:20260416T143000
LOCATION:255 Comet Dr\, Centreville\, MD 21617 US
SUMMARY:Caregiver's Support Group
END:VEVENT
END:VCALENDAR
