BEGIN:VCALENDAR
VERSION:2.0
PRODID:-//compassregionalhospice.org//NONSGML kigkonsult.se iCalcreator 2.3
 0.10//
CALSCALE:GREGORIAN
METHOD:PUBLISH
UID:cf7333ea-82be-4417-bf29-74930fdac9b0
X-WR-CALDESC:
X-WR-RELCALID:e44fd2a686f942ff9a2f6199410427a0
X-WR-TIMEZONE:America/New_York
BEGIN:VTIMEZONE
TZID:America/New_York
BEGIN:STANDARD
TZNAME:EST
DTSTART:20251102T020000
TZOFFSETFROM:-0400
TZOFFSETTO:-0500
RDATE:20261101T020000
END:STANDARD
BEGIN:DAYLIGHT
TZNAME:EDT
DTSTART:20260308T020000
TZOFFSETFROM:-0500
TZOFFSETTO:-0400
RDATE:20270314T020000
END:DAYLIGHT
END:VTIMEZONE
BEGIN:VEVENT
UID:d0c37dd3-7171-43fc-bdb4-fb28a7efaa69
DTSTAMP:20260420T015714Z
DESCRIPTION:
DTSTART;TZID=America/New_York:20260406T180000
DTEND;TZID=America/New_York:20260406T190000
LOCATION:255 Comet Dr\, Centreville\, MD 21617 US
SUMMARY:Bereaved Parent Group
END:VEVENT
END:VCALENDAR
