BEGIN:VCALENDAR
VERSION:2.0
PRODID:-//compassregionalhospice.org//NONSGML kigkonsult.se iCalcreator 2.3
 0.10//
CALSCALE:GREGORIAN
METHOD:PUBLISH
UID:1dd8f510-4f61-4b24-80f4-aa432ee450f5
X-WR-CALDESC:
X-WR-RELCALID:a5adb1b14bcf2ade596511f862a28183
X-WR-TIMEZONE:America/New_York
BEGIN:VTIMEZONE
TZID:America/New_York
BEGIN:STANDARD
TZNAME:EST
DTSTART:20241103T020000
TZOFFSETFROM:-0400
TZOFFSETTO:-0500
RDATE:20251102T020000
RDATE:20261101T020000
END:STANDARD
BEGIN:DAYLIGHT
TZNAME:EDT
DTSTART:20250309T020000
TZOFFSETFROM:-0500
TZOFFSETTO:-0400
RDATE:20260308T020000
RDATE:20270314T020000
END:DAYLIGHT
END:VTIMEZONE
BEGIN:VEVENT
UID:c4a98956-882c-4660-8fd5-d5f1057269f3
DTSTAMP:20260419T155848Z
DESCRIPTION:
DTSTART;TZID=America/New_York:20250925T170000
DTEND;TZID=America/New_York:20250925T193000
LOCATION:255 Comet Dr\, Centreville\, MD 21617 US
SUMMARY:Loss of Spouse or Partner: 8 Week Support Group
END:VEVENT
END:VCALENDAR
