BEGIN:VCALENDAR
VERSION:2.0
PRODID:-//compassregionalhospice.org//NONSGML kigkonsult.se iCalcreator 2.3
 0.10//
CALSCALE:GREGORIAN
METHOD:PUBLISH
UID:c2ac8433-9e6a-4fee-a883-a2ca77fd5154
X-WR-CALDESC:The training session is scheduled for 9 a.m. to 3 p.m. October
  4\, 11\, & 18th. The training will be held at our Barnette Center's Confe
 rence room located at 255 Comet Dr. Centreville\, MD 21617. Volunteers pro
 vide company for patients\, relieve the primary caregiver for a short peri
 od of time\, assist with administration duties\, or grief services. We are
  always looking for Veterans to assist with our We Honor Veterans program
X-WR-RELCALID:f41a8bb0c3684886b9d56462b79412da
X-WR-TIMEZONE:America/New_York
BEGIN:VTIMEZONE
TZID:America/New_York
BEGIN:STANDARD
TZNAME:EST
DTSTART:20231105T020000
TZOFFSETFROM:-0400
TZOFFSETTO:-0500
RDATE:20241103T020000
RDATE:20251102T020000
END:STANDARD
BEGIN:DAYLIGHT
TZNAME:EDT
DTSTART:20240310T020000
TZOFFSETFROM:-0500
TZOFFSETTO:-0400
RDATE:20250309T020000
RDATE:20260308T020000
END:DAYLIGHT
END:VTIMEZONE
BEGIN:VEVENT
UID:260f56dd-90b6-4e74-897c-a290e30587ea
DTSTAMP:20260419T182125Z
DESCRIPTION:The training session is scheduled for 9 a.m. to 3 p.m. October 
 4\, 11\, & 18th. The training will be held at our Barnette Center's Confer
 ence room located at 255 Comet Dr. Centreville\, MD 21617. Volunteers prov
 ide company for patients\, relieve the primary caregiver for a short perio
 d of time\, assist with administration duties\, or grief services. We are 
 always looking for Veterans to assist with our We Honor Veterans program
DTSTART;TZID=America/New_York:20241004T090000
DTEND;TZID=America/New_York:20241004T150000
LOCATION:255 Comet Dr\, Centreville\, MD 21617 US
SUMMARY:Fall Volunteer Training
END:VEVENT
END:VCALENDAR
