BEGIN:VCALENDAR
VERSION:2.0
PRODID:-//compassregionalhospice.org//NONSGML kigkonsult.se iCalcreator 2.3
 0.10//
CALSCALE:GREGORIAN
METHOD:PUBLISH
UID:3bac0e22-1aac-4fad-96d4-0f954fc3bbfe
X-WR-CALDESC:: Join our monthly drop-in group (last Tuesday of the month 6:
 00-7:30pm) for individuals (18 and older). A critical aspect in healing is
  sharing and connection. The goal of this monthly drop-in is to provide a 
 safe\, supportive space for individuals who have lost a loved one to overd
 ose or suicide. We hope you can join us. It is located at the Hope & Heali
 ng Center (Barnette Center) (255 Comet Dr. Centreville\, MD 21617). For mo
 re information\, contact Sherrie Young 443-262-4120 or syoung1@compassregi
 onalhospice.org.
X-WR-RELCALID:3b42e74277c2d9c95f0f103bcfd483cb
X-WR-TIMEZONE:America/New_York
BEGIN:VTIMEZONE
TZID:America/New_York
BEGIN:STANDARD
TZNAME:EST
DTSTART:20231105T020000
TZOFFSETFROM:-0400
TZOFFSETTO:-0500
RDATE:20241103T020000
RDATE:20251102T020000
END:STANDARD
BEGIN:DAYLIGHT
TZNAME:EDT
DTSTART:20240310T020000
TZOFFSETFROM:-0500
TZOFFSETTO:-0400
RDATE:20250309T020000
RDATE:20260308T020000
END:DAYLIGHT
END:VTIMEZONE
BEGIN:VEVENT
UID:49682527-943a-40a9-b89d-daa1727e51bf
DTSTAMP:20260419T205239Z
DESCRIPTION:: Join our monthly drop-in group (last Tuesday of the month 6:0
 0-7:30pm) for individuals (18 and older). A critical aspect in healing is 
 sharing and connection. The goal of this monthly drop-in is to provide a s
 afe\, supportive space for individuals who have lost a loved one to overdo
 se or suicide. We hope you can join us. It is located at the Hope & Healin
 g Center (Barnette Center) (255 Comet Dr. Centreville\, MD 21617). For mor
 e information\, contact Sherrie Young 443-262-4120 or syoung1@compassregio
 nalhospice.org.
DTSTART;TZID=America/New_York:20240924T180000
DTEND;TZID=America/New_York:20240924T193000
LOCATION:255 Comet Dr.\, Centreville\, MD 21617 US
SUMMARY:Stigmatized Loss Support Group
END:VEVENT
END:VCALENDAR
