BEGIN:VCALENDAR
VERSION:2.0
PRODID:-//compassregionalhospice.org//NONSGML kigkonsult.se iCalcreator 2.3
 0.10//
CALSCALE:GREGORIAN
METHOD:PUBLISH
UID:f2331ee9-5cd2-4f55-908f-13f3ae6e57e2
X-WR-CALDESC:Family caregivers take on so much-from cooking and cleaning to
  managing medications\, looking after finances\, and coordinating doctor a
 ppointments. It is a monthly drop-in group on the second Thursday of each 
 month 1:00-2:30pm. It will be hosted at the Hope & Healing Center (Barnett
 e Center) (255 Comet Dr. Centreville\, MD 21617). This is a place where sp
 ouses and adult children can share their sorrows and problems\, joys and s
 uccesses\, resources and solutions. Please reach out to Rhonda Knotts 443-
 262-4109 or rknotts@compassregionalhospice.org with any questions.
X-WR-RELCALID:f1cc2e3e057798fb1781641ff22e2f82
X-WR-TIMEZONE:America/New_York
BEGIN:VTIMEZONE
TZID:America/New_York
BEGIN:STANDARD
TZNAME:EST
DTSTART:20231105T020000
TZOFFSETFROM:-0400
TZOFFSETTO:-0500
RDATE:20241103T020000
RDATE:20251102T020000
END:STANDARD
BEGIN:DAYLIGHT
TZNAME:EDT
DTSTART:20240310T020000
TZOFFSETFROM:-0500
TZOFFSETTO:-0400
RDATE:20250309T020000
RDATE:20260308T020000
END:DAYLIGHT
END:VTIMEZONE
BEGIN:VEVENT
UID:e9a3b729-f3c4-4b50-825b-6664093bf3f9
DTSTAMP:20260419T212247Z
DESCRIPTION:Family caregivers take on so much-from cooking and cleaning to 
 managing medications\, looking after finances\, and coordinating doctor ap
 pointments. It is a monthly drop-in group on the second Thursday of each m
 onth 1:00-2:30pm. It will be hosted at the Hope & Healing Center (Barnette
  Center) (255 Comet Dr. Centreville\, MD 21617). This is a place where spo
 uses and adult children can share their sorrows and problems\, joys and su
 ccesses\, resources and solutions. Please reach out to Rhonda Knotts 443-2
 62-4109 or rknotts@compassregionalhospice.org with any questions.
DTSTART;TZID=America/New_York:20240912T130000
DTEND;TZID=America/New_York:20240912T143000
LOCATION:255 Comet Dr.\, Centreville\, MD 21617 US
SUMMARY:Caregiver's Support Group
END:VEVENT
END:VCALENDAR
