BEGIN:VCALENDAR
VERSION:2.0
PRODID:-//compassregionalhospice.org//NONSGML kigkonsult.se iCalcreator 2.3
 0.10//
CALSCALE:GREGORIAN
METHOD:PUBLISH
UID:9c2f926c-5076-48dc-8b56-9030d1d1986c
X-WR-CALDESC:Join our monthly drop-in group (first Monday of the month) for
  individuals (18 and older) from 6:00-7:30 pm\, who have experienced the l
 oss of a child at any age\, regardless of the circumstances. It is located
  at the Barnette Center (255 Comet Dr. Centreville\, MD 21617). This suppo
 rt group is a safe place for parents to understand that they are not alone
  in their grief and to appreciate that everyone grieves differently. For m
 ore information\, contact Rhonda Knotts at 443-262-4109 or rknotts@compass
 regionalhospice.org.
X-WR-RELCALID:2b911635338d01405738b300b8509e59
X-WR-TIMEZONE:America/New_York
BEGIN:VTIMEZONE
TZID:America/New_York
BEGIN:STANDARD
TZNAME:EST
DTSTART:20231105T020000
TZOFFSETFROM:-0400
TZOFFSETTO:-0500
RDATE:20241103T020000
RDATE:20251102T020000
END:STANDARD
BEGIN:DAYLIGHT
TZNAME:EDT
DTSTART:20240310T020000
TZOFFSETFROM:-0500
TZOFFSETTO:-0400
RDATE:20250309T020000
END:DAYLIGHT
END:VTIMEZONE
BEGIN:VEVENT
UID:53b88471-a19f-4572-8aff-7073ea4b77f3
DTSTAMP:20260419T211418Z
DESCRIPTION:Join our monthly drop-in group (first Monday of the month) for 
 individuals (18 and older) from 6:00-7:30 pm\, who have experienced the lo
 ss of a child at any age\, regardless of the circumstances. It is located 
 at the Barnette Center (255 Comet Dr. Centreville\, MD 21617). This suppor
 t group is a safe place for parents to understand that they are not alone 
 in their grief and to appreciate that everyone grieves differently. For mo
 re information\, contact Rhonda Knotts at 443-262-4109 or rknotts@compassr
 egionalhospice.org.
DTSTART;TZID=America/New_York:20240902T180000
DTEND;TZID=America/New_York:20240902T193000
LOCATION:255 Comet Dr.\, Centreville\, MD 21617 US
SUMMARY:Bereaved Parents Group
END:VEVENT
END:VCALENDAR
