BEGIN:VCALENDAR
VERSION:2.0
PRODID:-//compassregionalhospice.org//NONSGML kigkonsult.se iCalcreator 2.3
 0.10//
CALSCALE:GREGORIAN
METHOD:PUBLISH
UID:00fc7e7b-754d-4687-8afa-bc340e05f10e
X-WR-CALDESC:Camp New Dawn is a four-day\, three-night grief retreat for ch
 ildren\, teens and families who are struggling with the loss of a loved on
 e. Campers learn healthy coping skills that will benefit them throughout t
 heir lives. They engage in group discussions and activities with other kid
 s who have experienced loss\, and interact with professional grief counsel
 ors who help them learn about and express grief in a safe\, natural enviro
 nment.
X-WR-RELCALID:29214cae4b3db142109491711c112702
X-WR-TIMEZONE:America/New_York
BEGIN:VTIMEZONE
TZID:America/New_York
BEGIN:STANDARD
TZNAME:EST
DTSTART:20231105T020000
TZOFFSETFROM:-0400
TZOFFSETTO:-0500
RDATE:20241103T020000
RDATE:20251102T020000
END:STANDARD
BEGIN:DAYLIGHT
TZNAME:EDT
DTSTART:20240310T020000
TZOFFSETFROM:-0500
TZOFFSETTO:-0400
RDATE:20250309T020000
END:DAYLIGHT
END:VTIMEZONE
BEGIN:VEVENT
UID:bc1ac9ef-c346-4f0b-83a1-8b48a4315fa7
DTSTAMP:20260419T135053Z
DESCRIPTION:Camp New Dawn is a four-day\, three-night grief retreat for chi
 ldren\, teens and families who are struggling with the loss of a loved one
 . Campers learn healthy coping skills that will benefit them throughout th
 eir lives. They engage in group discussions and activities with other kids
  who have experienced loss\, and interact with professional grief counselo
 rs who help them learn about and express grief in a safe\, natural environ
 ment.
DTSTART;TZID=America/New_York:20240810T060000
DTEND;TZID=America/New_York:20240811T060001
LOCATION:401 Jack Elliot Way\, Centreville\, MD 21617 US
SUMMARY:Camp New Dawn
END:VEVENT
END:VCALENDAR
