BEGIN:VCALENDAR
VERSION:2.0
PRODID:-//compassregionalhospice.org//NONSGML kigkonsult.se iCalcreator 2.3
 0.10//
CALSCALE:GREGORIAN
METHOD:PUBLISH
UID:70b2799c-1ebf-429a-9362-e03763826b58
X-WR-CALDESC:This group will begin June 13th at 5:30pm at the Hope and Heal
 ing Center conference room.  It will run consecutively for 8 weeks. Led by
  experienced facilitators\, this group offers a compassionate environment 
 to share stories\, emotions\, and coping strategies.  Together\, we'll exp
 lore techniques for managing grief\, finding meaning in loss\, and rebuild
 ing a sense of hope for the future. Whether you're facing recent loss or s
 till processing past experiences\, you're not alone on this path towards h
 ealing. Join us as we embark on this transformative journey together. Plea
 se contact Sherrie Young at 443-262-4120 by June 1 to register.
X-WR-RELCALID:493810b7e1ea24ceed56733e5e1f8935
X-WR-TIMEZONE:America/New_York
BEGIN:VTIMEZONE
TZID:America/New_York
BEGIN:STANDARD
TZNAME:EST
DTSTART:20231105T020000
TZOFFSETFROM:-0400
TZOFFSETTO:-0500
RDATE:20241103T020000
RDATE:20251102T020000
END:STANDARD
BEGIN:DAYLIGHT
TZNAME:EDT
DTSTART:20240310T020000
TZOFFSETFROM:-0500
TZOFFSETTO:-0400
RDATE:20250309T020000
END:DAYLIGHT
END:VTIMEZONE
BEGIN:VEVENT
UID:01059044-876f-4e6f-9a40-899934509ed9
DTSTAMP:20260419T203638Z
DESCRIPTION:This group will begin June 13th at 5:30pm at the Hope and Heali
 ng Center conference room.  It will run consecutively for 8 weeks. Led by 
 experienced facilitators\, this group offers a compassionate environment t
 o share stories\, emotions\, and coping strategies.  Together\, we'll expl
 ore techniques for managing grief\, finding meaning in loss\, and rebuildi
 ng a sense of hope for the future. Whether you're facing recent loss or st
 ill processing past experiences\, you're not alone on this path towards he
 aling. Join us as we embark on this transformative journey together. Pleas
 e contact Sherrie Young at 443-262-4120 by June 1 to register.
DTSTART;TZID=America/New_York:20240725T173000
DTEND;TZID=America/New_York:20240725T193000
LOCATION:255 Comet Dr\, Centreville\, MD 21617 US
SUMMARY:All Loses 8 Week Support Group
END:VEVENT
END:VCALENDAR
