BEGIN:VCALENDAR
VERSION:2.0
PRODID:-//compassregionalhospice.org//NONSGML kigkonsult.se iCalcreator 2.3
 0.10//
CALSCALE:GREGORIAN
METHOD:PUBLISH
UID:fd508f6c-b2b5-402d-b6ce-b06037876987
X-WR-CALDESC:
X-WR-RELCALID:28458ef60a06ea01f76dde0deae53980
X-WR-TIMEZONE:America/New_York
BEGIN:VTIMEZONE
TZID:America/New_York
BEGIN:STANDARD
TZNAME:EST
DTSTART:20231105T020000
TZOFFSETFROM:-0400
TZOFFSETTO:-0500
RDATE:20241103T020000
RDATE:20251102T020000
END:STANDARD
BEGIN:DAYLIGHT
TZNAME:EDT
DTSTART:20240310T020000
TZOFFSETFROM:-0500
TZOFFSETTO:-0400
RDATE:20250309T020000
END:DAYLIGHT
END:VTIMEZONE
BEGIN:VEVENT
UID:b69d0294-9e27-4722-bc6d-2a5239369f34
DTSTAMP:20260420T015437Z
DESCRIPTION:
DTSTART;TZID=America/New_York:20240626T170000
DTEND;TZID=America/New_York:20240626T200000
LOCATION:6154 Main St.\, Queenstown\, MD 21658 US
SUMMARY:Camp New Dawn Fundraiser
END:VEVENT
END:VCALENDAR
