BEGIN:VCALENDAR
VERSION:2.0
PRODID:-//compassregionalhospice.org//NONSGML kigkonsult.se iCalcreator 2.3
 0.10//
CALSCALE:GREGORIAN
METHOD:PUBLISH
UID:8207e8c8-6916-4f8d-bb65-a6ed77c7832d
X-WR-CALDESC:Compass will host its Annual Golf Tournament on Monday\, April
  29th at Prospect Bay Country Club\, 311 Prospect Bay Dr. W\, Grasonville.
  Proceeds from the tournament enable Compass to provide the following for 
 residents of Caroline\, Kent and Queen Anne’s counties:\n\n· Compassionate
  and professional hospice care and supportive care in their homes\, nursin
 g homes\, assisted living facilities or at The Barnette Center in Centrevi
 lle.\n\n· Supportive care\, which offers guidance toward living well and a
 s fully as possible at any stage of a serious\, chronic\, or terminal illn
 ess.\n\n· Grief support through individual counseling\, support groups\, s
 chool-based grief counseling (K-12th grade)\, and youth grief retreats lik
 e Camp New Dawn and Camp Reflection.\n\nThe Golf Committee members include
 : Josh Bullock\, Brian Guerieri\, Billy Willis and Bruce Cohee. The regist
 ration fee is $600 per team. Registration includes practice range\, golf c
 art\, luncheon\, and awards.\n\nTournament participants will also enjoy a 
 variety of competitions and games in addition to the 18-holes of play. On 
 the morning of the event\, registration will begin at 7:30 am with a shotg
 un start at 9:00 am. Breakfast and other refreshments will be available on
  the course throughout the day. After play\, the golfers are invited back 
 to the club house for lunch and an awards ceremony.\n
X-WR-RELCALID:4515330e80ae8da3c699dcca38832577
X-WR-TIMEZONE:America/New_York
BEGIN:VTIMEZONE
TZID:America/New_York
BEGIN:STANDARD
TZNAME:EST
DTSTART:20231105T020000
TZOFFSETFROM:-0400
TZOFFSETTO:-0500
RDATE:20241103T020000
END:STANDARD
BEGIN:DAYLIGHT
TZNAME:EDT
DTSTART:20240310T020000
TZOFFSETFROM:-0500
TZOFFSETTO:-0400
RDATE:20250309T020000
END:DAYLIGHT
END:VTIMEZONE
BEGIN:VEVENT
UID:69b39641-0722-4bbd-a8ba-cd9e0cfc4b7c
DTSTAMP:20260420T113932Z
DESCRIPTION:Compass will host its Annual Golf Tournament on Monday\, April 
 29th at Prospect Bay Country Club\, 311 Prospect Bay Dr. W\, Grasonville. 
 Proceeds from the tournament enable Compass to provide the following for r
 esidents of Caroline\, Kent and Queen Anne’s counties:\n\n· Compassionate 
 and professional hospice care and supportive care in their homes\, nursing
  homes\, assisted living facilities or at The Barnette Center in Centrevil
 le.\n\n· Supportive care\, which offers guidance toward living well and as
  fully as possible at any stage of a serious\, chronic\, or terminal illne
 ss.\n\n· Grief support through individual counseling\, support groups\, sc
 hool-based grief counseling (K-12th grade)\, and youth grief retreats like
  Camp New Dawn and Camp Reflection.\n\nThe Golf Committee members include:
  Josh Bullock\, Brian Guerieri\, Billy Willis and Bruce Cohee. The registr
 ation fee is $600 per team. Registration includes practice range\, golf ca
 rt\, luncheon\, and awards.\n\nTournament participants will also enjoy a v
 ariety of competitions and games in addition to the 18-holes of play. On t
 he morning of the event\, registration will begin at 7:30 am with a shotgu
 n start at 9:00 am. Breakfast and other refreshments will be available on 
 the course throughout the day. After play\, the golfers are invited back t
 o the club house for lunch and an awards ceremony.\n
DTSTART;TZID=America/New_York:20240429T073000
DTEND;TZID=America/New_York:20240429T123000
LOCATION:301 Prospect Bay Dr W\, Grasonville\, MD 21638 US
SUMMARY:Compass Golf Tournament
END:VEVENT
END:VCALENDAR
