BEGIN:VCALENDAR
VERSION:2.0
PRODID:-//compassregionalhospice.org//NONSGML kigkonsult.se iCalcreator 2.3
 0.10//
CALSCALE:GREGORIAN
METHOD:PUBLISH
UID:b6f341a1-c3a8-49e4-b5d1-a029ca8d4178
X-WR-CALDESC:A critical aspect in healing is the support of other people. T
 his 8-week group for individuals who have lost a spouse or partner will be
  structured around discussion and sharing with the goal of fostering peer 
 support and introducing tools and skills to navigate your grief. Please jo
 in us!
X-WR-RELCALID:39d119e8e1a9b92781416e6f217d29d3
X-WR-TIMEZONE:America/New_York
BEGIN:VTIMEZONE
TZID:America/New_York
BEGIN:STANDARD
TZNAME:EST
DTSTART:20231105T020000
TZOFFSETFROM:-0400
TZOFFSETTO:-0500
RDATE:20241103T020000
END:STANDARD
BEGIN:DAYLIGHT
TZNAME:EDT
DTSTART:20240310T020000
TZOFFSETFROM:-0500
TZOFFSETTO:-0400
RDATE:20250309T020000
END:DAYLIGHT
END:VTIMEZONE
BEGIN:VEVENT
UID:9c0e1028-b9b0-4cdc-9ec6-78acb1bdff3c
DTSTAMP:20260420T170419Z
DESCRIPTION:A critical aspect in healing is the support of other people. Th
 is 8-week group for individuals who have lost a spouse or partner will be 
 structured around discussion and sharing with the goal of fostering peer s
 upport and introducing tools and skills to navigate your grief. Please joi
 n us!
DTSTART;TZID=America/New_York:20240314T173000
DTEND;TZID=America/New_York:20240314T193000
LOCATION:255 Comet Dr\, Centreville\, MD 21617 US
SUMMARY:Loss of Spouse or Partner 8 Week Support Group
END:VEVENT
END:VCALENDAR
